{
 "currentVersion": 10.6,
 "serviceDescription": "TOS/sdeweb_rdadmin_TOS_Image_WGS84",
 "name": "TOS/sdeweb_rdadmin_TOS_Image_WGS84",
 "description": "",
 "extent": {
  "xmin": -127.2077569698,
  "ymin": 54.74103582166141,
  "xmax": -127.12490692319736,
  "ymax": 54.83915610519999,
  "spatialReference": {
   "wkid": 4326,
   "latestWkid": 4326
  }
 },
 "initialExtent": {
  "xmin": -127.2077569698,
  "ymin": 54.74103582166141,
  "xmax": -127.12490692319736,
  "ymax": 54.83915610519999,
  "spatialReference": {
   "wkid": 4326,
   "latestWkid": 4326
  }
 },
 "fullExtent": {
  "xmin": -127.2077569698,
  "ymin": 54.74103582166141,
  "xmax": -127.12490692319736,
  "ymax": 54.83915610519999,
  "spatialReference": {
   "wkid": 4326,
   "latestWkid": 4326
  }
 },
 "pixelSizeX": 6.737364630900298E-7,
 "pixelSizeY": 6.737364630900139E-7,
 "bandCount": 3,
 "pixelType": "U8",
 "minPixelSize": 0,
 "maxPixelSize": 0,
 "copyrightText": "",
 "serviceDataType": "esriImageServiceDataTypeProcessed",
 "minValues": [
  0,
  0,
  18
 ],
 "maxValues": [
  255,
  255,
  255
 ],
 "meanValues": [
  189.01684881603,
  189.92213114754,
  173.05919854281
 ],
 "stdvValues": [
  67.585412386724,
  65.46533964002,
  81.06923861734
 ],
 "objectIdField": "",
 "fields": [],
 "capabilities": "Image,Metadata,Mensuration",
 "defaultMosaicMethod": "Center",
 "allowedMosaicMethods": "",
 "sortField": "",
 "sortValue": null,
 "mosaicOperator": "First",
 "defaultCompressionQuality": 75,
 "defaultResamplingMethod": "Bilinear",
 "maxImageHeight": 4100,
 "maxImageWidth": 15000,
 "allowRasterFunction": true,
 "rasterFunctionInfos": [
  {
   "name": "None",
   "description": "",
   "help": ""
  }
 ],
 "rasterTypeInfos": [
  {
   "name": "Raster Dataset",
   "description": "Supports all ArcGIS Raster Datasets",
   "help": ""
  }
 ],
 "mensurationCapabilities": "Basic",
 "hasHistograms": true,
 "hasColormap": false,
 "hasRasterAttributeTable": false,
 "minScale": 0,
 "maxScale": 0,
 "exportTilesAllowed": false,
 "hasMultidimensions": false,
 "supportsStatistics": false,
 "supportsAdvancedQueries": false,
 "editFieldsInfo": null,
 "ownershipBasedAccessControlForRasters": null,
 "allowComputeTiePoints": false,
 "useStandardizedQueries": true,
 "advancedQueryCapabilities": {
  "useStandardizedQueries": true,
  "supportsStatistics": false,
  "supportsOrderBy": false,
  "supportsDistinct": false,
  "supportsPagination": false
 },
 "spatialReference": {
  "wkid": 4326,
  "latestWkid": 4326
 }
}
