View In:
ArcGIS JavaScript
ArcGIS Online Map Viewer
ArcGIS Earth
ArcMap
View Footprint In:
ArcGIS Online Map Viewer
Service Description: TOS/sdeweb_rdadmin_TOS_Image_WGS84
Name: TOS/sdeweb_rdadmin_TOS_Image_WGS84
Description:
Single Fused Map Cache: false
Extent:
XMin: -127.2077569698
YMin: 54.74103582166141
XMax: -127.12490692319736
YMax: 54.83915610519999
Spatial Reference: 4326
(4326)
Initial Extent:
XMin: -127.2077569698
YMin: 54.74103582166141
XMax: -127.12490692319736
YMax: 54.83915610519999
Spatial Reference: 4326
(4326)
Full Extent:
XMin: -127.2077569698
YMin: 54.74103582166141
XMax: -127.12490692319736
YMax: 54.83915610519999
Spatial Reference: 4326
(4326)
Pixel Size X: 6.737364630900298E-7
Pixel Size Y: 6.737364630900139E-7
Band Count: 3
Pixel Type: U8
RasterFunction Infos: {"name":"None","description":"","help":""}
Mensuration Capabilities: Basic
Has Histograms: true
Has Colormap: false
Has Multi Dimensions : false
Rendering Rule:
Min Scale: 0
Max Scale: 0
Copyright Text:
Service Data Type: esriImageServiceDataTypeProcessed
Min Values: 0, 0, 18
Max Values: 255, 255, 255
Mean Values: 189.01684881603, 189.92213114754, 173.05919854281
Standard Deviation Values: 67.585412386724, 65.46533964002, 81.06923861734
Object ID Field:
Fields:
None
Default Mosaic Method: Center
Allowed Mosaic Methods:
SortField:
SortValue: null
Mosaic Operator: First
Default Compression Quality: 75
Default Resampling Method: Bilinear
Max Record Count: null
Max Image Height: 4100
Max Image Width: 15000
Max Download Image Count: null
Max Mosaic Image Count: null
Allow Raster Function: true
Allow Compute TiePoints: false
Supports Statistics: false
Supports Advanced Queries: false
Use StandardizedQueries: true
Raster Type Infos:
Name: Raster Dataset
Description: Supports all ArcGIS Raster Datasets
Help:
Has Raster Attribute Table: false
Edit Fields Info: null
Ownership Based AccessControl For Rasters: null
Child Resources:
Info
Histograms
Key Properties
Legend
MultiDimensionalInfo
rasterFunctionInfos
Supported Operations:
Export Image
Identify
Measure
Compute Histograms
Compute Statistics Histograms
Get Samples
Compute Class Statistics
Query Boundary